BEGIN:VCALENDAR
VERSION:2.0
PRODID:-//Eventin//Event Calendar//EN
CALSCALE:GREGORIAN
METHOD:PUBLISH
BEGIN:VEVENT
UID:8e4058b621332cbe66fd3b2a2bfbce70@itcdio.com
SUMMARY:UZAMSAL FARKINDALIK
DESCRIPTION:GEOMETRİK SAKSI YAPIM ATÖLYESİ\n\n\n\nİTC DİO Studio olara
 k\, seramik çamuruyla tanışmanızı ve kendinizin yaratıcılığını s
 erbest bırakmanızı sağlayacak bir etkinlik düzenliyoruz.
LOCATION:Saray Fatih Mahallesi Ertuğrul Gazi Caddesi 27/E Ankara\, 06145 P
 ursaklar/Ankara
DTSTAMP:20260422T085521Z
DTSTART:20240427T100000Z
DTEND:20260422T120000Z
END:VEVENT
END:VCALENDAR
